BEGIN:VCALENDAR
VERSION:2.0
PRODID:-//MD-DE-DC Elks Association - ECPv6.15.17.1//NONSGML v1.0//EN
CALSCALE:GREGORIAN
METHOD:PUBLISH
X-WR-CALNAME:MD-DE-DC Elks Association
X-ORIGINAL-URL:https://mddedcelks.org
X-WR-CALDESC:Events for MD-DE-DC Elks Association
REFRESH-INTERVAL;VALUE=DURATION:PT1H
X-Robots-Tag:noindex
X-PUBLISHED-TTL:PT1H
BEGIN:VTIMEZONE
TZID:America/Halifax
BEGIN:DAYLIGHT
TZOFFSETFROM:-0400
TZOFFSETTO:-0300
TZNAME:ADT
DTSTART:20240310T060000
END:DAYLIGHT
BEGIN:STANDARD
TZOFFSETFROM:-0300
TZOFFSETTO:-0400
TZNAME:AST
DTSTART:20241103T050000
END:STANDARD
BEGIN:DAYLIGHT
TZOFFSETFROM:-0400
TZOFFSETTO:-0300
TZNAME:ADT
DTSTART:20250309T060000
END:DAYLIGHT
BEGIN:STANDARD
TZOFFSETFROM:-0300
TZOFFSETTO:-0400
TZNAME:AST
DTSTART:20251102T050000
END:STANDARD
BEGIN:DAYLIGHT
TZOFFSETFROM:-0400
TZOFFSETTO:-0300
TZNAME:ADT
DTSTART:20260308T060000
END:DAYLIGHT
BEGIN:STANDARD
TZOFFSETFROM:-0300
TZOFFSETTO:-0400
TZNAME:AST
DTSTART:20261101T050000
END:STANDARD
END:VTIMEZONE
BEGIN:VEVENT
DTSTART;TZID=America/Halifax:20251101T080000
DTEND;TZID=America/Halifax:20251101T170000
DTSTAMP:20260422T021116
CREATED:20250724T235241Z
LAST-MODIFIED:20250724T235241Z
UID:10000006-1761984000-1762016400@mddedcelks.org
SUMMARY:Elks Camp Barrett Lodge Reps Meeting
DESCRIPTION:
URL:https://mddedcelks.org/event/elks-camp-barrett-lodge-reps-meeting/2025-11-01/
LOCATION:Elks Camp Barrett\, 1001 Chesterfield Road\, Annapolis\, MD\, 21401\, United States
END:VEVENT
BEGIN:VEVENT
DTSTART;VALUE=DATE:20251114
DTEND;VALUE=DATE:20251117
DTSTAMP:20260422T021116
CREATED:20250814T134922Z
LAST-MODIFIED:20250814T134922Z
UID:10000065-1763078400-1763337599@mddedcelks.org
SUMMARY:**ECB Scout Camporee**
DESCRIPTION:***Our Annual ECB Scout Camporee in Partnership with USNA – Navy Football will be held at our State Major Project: Elks Camp Barrett (ECB) in Annapolis\, MD during the weekend of November 14-16. *Volunteers are needed & appreciated for this ‘Huge’ Youth Event. **Please contact our Office at ECB: 410-224-2945 – to volunteer or for more information. **Visit our New Website @ https://mddedcelks.org. Please bear with our continuing construction of this website\, as we strive to build a top-notch Website with easier navigation…
URL:https://mddedcelks.org/event/ecb-scout-camporee/
LOCATION:Elks Camp Barrett\, 1001 Chesterfield Road\, Annapolis\, MD\, 21401\, United States
ORGANIZER;CN="ECB":MAILTO:mddedcelks@gmail.com
END:VEVENT
END:VCALENDAR