BEGIN:VCALENDAR
VERSION:2.0
PRODID:-//MD-DE-DC Elks Association - ECPv6.15.17.1//NONSGML v1.0//EN
CALSCALE:GREGORIAN
METHOD:PUBLISH
X-WR-CALNAME:MD-DE-DC Elks Association
X-ORIGINAL-URL:https://mddedcelks.org
X-WR-CALDESC:Events for MD-DE-DC Elks Association
REFRESH-INTERVAL;VALUE=DURATION:PT1H
X-Robots-Tag:noindex
X-PUBLISHED-TTL:PT1H
BEGIN:VTIMEZONE
TZID:America/Halifax
BEGIN:DAYLIGHT
TZOFFSETFROM:-0400
TZOFFSETTO:-0300
TZNAME:ADT
DTSTART:20290311T060000
END:DAYLIGHT
BEGIN:STANDARD
TZOFFSETFROM:-0300
TZOFFSETTO:-0400
TZNAME:AST
DTSTART:20291104T050000
END:STANDARD
BEGIN:DAYLIGHT
TZOFFSETFROM:-0400
TZOFFSETTO:-0300
TZNAME:ADT
DTSTART:20300310T060000
END:DAYLIGHT
BEGIN:STANDARD
TZOFFSETFROM:-0300
TZOFFSETTO:-0400
TZNAME:AST
DTSTART:20301103T050000
END:STANDARD
BEGIN:DAYLIGHT
TZOFFSETFROM:-0400
TZOFFSETTO:-0300
TZNAME:ADT
DTSTART:20310309T060000
END:DAYLIGHT
BEGIN:STANDARD
TZOFFSETFROM:-0300
TZOFFSETTO:-0400
TZNAME:AST
DTSTART:20311102T050000
END:STANDARD
END:VTIMEZONE
BEGIN:VEVENT
DTSTART;TZID=America/Halifax:20300202T080000
DTEND;TZID=America/Halifax:20300202T170000
DTSTAMP:20260422T193048
CREATED:20250724T235241Z
LAST-MODIFIED:20250724T235241Z
UID:10000057-1896249600-1896282000@mddedcelks.org
SUMMARY:Elks Camp Barrett Lodge Reps Meeting
DESCRIPTION:
URL:https://mddedcelks.org/event/elks-camp-barrett-lodge-reps-meeting/2030-02-02/
LOCATION:Elks Camp Barrett\, 1001 Chesterfield Road\, Annapolis\, MD\, 21401\, United States
END:VEVENT
BEGIN:VEVENT
DTSTART;TZID=America/Halifax:20300302T080000
DTEND;TZID=America/Halifax:20300302T170000
DTSTAMP:20260422T193048
CREATED:20250724T235241Z
LAST-MODIFIED:20250724T235241Z
UID:10000058-1898668800-1898701200@mddedcelks.org
SUMMARY:Elks Camp Barrett Lodge Reps Meeting
DESCRIPTION:
URL:https://mddedcelks.org/event/elks-camp-barrett-lodge-reps-meeting/2030-03-02/
LOCATION:Elks Camp Barrett\, 1001 Chesterfield Road\, Annapolis\, MD\, 21401\, United States
END:VEVENT
BEGIN:VEVENT
DTSTART;TZID=America/Halifax:20300406T080000
DTEND;TZID=America/Halifax:20300406T170000
DTSTAMP:20260422T193048
CREATED:20250724T235241Z
LAST-MODIFIED:20250724T235241Z
UID:10000059-1901692800-1901725200@mddedcelks.org
SUMMARY:Elks Camp Barrett Lodge Reps Meeting
DESCRIPTION:
URL:https://mddedcelks.org/event/elks-camp-barrett-lodge-reps-meeting/2030-04-06/
LOCATION:Elks Camp Barrett\, 1001 Chesterfield Road\, Annapolis\, MD\, 21401\, United States
END:VEVENT
BEGIN:VEVENT
DTSTART;TZID=America/Halifax:20300504T080000
DTEND;TZID=America/Halifax:20300504T170000
DTSTAMP:20260422T193048
CREATED:20250724T235241Z
LAST-MODIFIED:20250724T235241Z
UID:10000060-1904112000-1904144400@mddedcelks.org
SUMMARY:Elks Camp Barrett Lodge Reps Meeting
DESCRIPTION:
URL:https://mddedcelks.org/event/elks-camp-barrett-lodge-reps-meeting/2030-05-04/
LOCATION:Elks Camp Barrett\, 1001 Chesterfield Road\, Annapolis\, MD\, 21401\, United States
END:VEVENT
BEGIN:VEVENT
DTSTART;TZID=America/Halifax:20300601T080000
DTEND;TZID=America/Halifax:20300601T170000
DTSTAMP:20260422T193048
CREATED:20250724T235241Z
LAST-MODIFIED:20250724T235241Z
UID:10000061-1906531200-1906563600@mddedcelks.org
SUMMARY:Elks Camp Barrett Lodge Reps Meeting
DESCRIPTION:
URL:https://mddedcelks.org/event/elks-camp-barrett-lodge-reps-meeting/2030-06-01/
LOCATION:Elks Camp Barrett\, 1001 Chesterfield Road\, Annapolis\, MD\, 21401\, United States
END:VEVENT
BEGIN:VEVENT
DTSTART;TZID=America/Halifax:20300706T080000
DTEND;TZID=America/Halifax:20300706T170000
DTSTAMP:20260422T193048
CREATED:20250724T235241Z
LAST-MODIFIED:20250724T235241Z
UID:10000062-1909555200-1909587600@mddedcelks.org
SUMMARY:Elks Camp Barrett Lodge Reps Meeting
DESCRIPTION:
URL:https://mddedcelks.org/event/elks-camp-barrett-lodge-reps-meeting/2030-07-06/
LOCATION:Elks Camp Barrett\, 1001 Chesterfield Road\, Annapolis\, MD\, 21401\, United States
END:VEVENT
END:VCALENDAR