BEGIN:VCALENDAR
VERSION:2.0
PRODID:-//MD-DE-DC Elks Association - ECPv6.15.17.1//NONSGML v1.0//EN
CALSCALE:GREGORIAN
METHOD:PUBLISH
X-WR-CALNAME:MD-DE-DC Elks Association
X-ORIGINAL-URL:https://mddedcelks.org
X-WR-CALDESC:Events for MD-DE-DC Elks Association
REFRESH-INTERVAL;VALUE=DURATION:PT1H
X-Robots-Tag:noindex
X-PUBLISHED-TTL:PT1H
BEGIN:VTIMEZONE
TZID:America/Halifax
BEGIN:DAYLIGHT
TZOFFSETFROM:-0400
TZOFFSETTO:-0300
TZNAME:ADT
DTSTART:20250309T060000
END:DAYLIGHT
BEGIN:STANDARD
TZOFFSETFROM:-0300
TZOFFSETTO:-0400
TZNAME:AST
DTSTART:20251102T050000
END:STANDARD
BEGIN:DAYLIGHT
TZOFFSETFROM:-0400
TZOFFSETTO:-0300
TZNAME:ADT
DTSTART:20260308T060000
END:DAYLIGHT
BEGIN:STANDARD
TZOFFSETFROM:-0300
TZOFFSETTO:-0400
TZNAME:AST
DTSTART:20261101T050000
END:STANDARD
BEGIN:DAYLIGHT
TZOFFSETFROM:-0400
TZOFFSETTO:-0300
TZNAME:ADT
DTSTART:20270314T060000
END:DAYLIGHT
BEGIN:STANDARD
TZOFFSETFROM:-0300
TZOFFSETTO:-0400
TZNAME:AST
DTSTART:20271107T050000
END:STANDARD
BEGIN:DAYLIGHT
TZOFFSETFROM:-0400
TZOFFSETTO:-0300
TZNAME:ADT
DTSTART:20280312T060000
END:DAYLIGHT
BEGIN:STANDARD
TZOFFSETFROM:-0300
TZOFFSETTO:-0400
TZNAME:AST
DTSTART:20281105T050000
END:STANDARD
BEGIN:DAYLIGHT
TZOFFSETFROM:-0400
TZOFFSETTO:-0300
TZNAME:ADT
DTSTART:20290311T060000
END:DAYLIGHT
BEGIN:STANDARD
TZOFFSETFROM:-0300
TZOFFSETTO:-0400
TZNAME:AST
DTSTART:20291104T050000
END:STANDARD
END:VTIMEZONE
BEGIN:VEVENT
DTSTART;TZID=America/Halifax:20260502T080000
DTEND;TZID=America/Halifax:20260502T170000
DTSTAMP:20260421T222702
CREATED:20250724T235241Z
LAST-MODIFIED:20250724T235241Z
UID:10000012-1777708800-1777741200@mddedcelks.org
SUMMARY:Elks Camp Barrett Lodge Reps Meeting
DESCRIPTION:
URL:https://mddedcelks.org/event/elks-camp-barrett-lodge-reps-meeting/2026-05-02/
LOCATION:Elks Camp Barrett\, 1001 Chesterfield Road\, Annapolis\, MD\, 21401\, United States
END:VEVENT
BEGIN:VEVENT
DTSTART;VALUE=DATE:20260605
DTEND;VALUE=DATE:20260608
DTSTAMP:20260421T222702
CREATED:20260214T160939Z
LAST-MODIFIED:20260214T160939Z
UID:10000066-1780617600-1780876799@mddedcelks.org
SUMMARY:MD-DE-DC Association Convention
DESCRIPTION:Place holder for state association conference at Maritime Conference Center in Linthicum.
URL:https://mddedcelks.org/event/md-de-dc-association-convention/
LOCATION:Maritime Conderence Center
END:VEVENT
BEGIN:VEVENT
DTSTART;TZID=America/Halifax:20260606T080000
DTEND;TZID=America/Halifax:20260606T170000
DTSTAMP:20260421T222702
CREATED:20250724T235241Z
LAST-MODIFIED:20250724T235241Z
UID:10000013-1780732800-1780765200@mddedcelks.org
SUMMARY:Elks Camp Barrett Lodge Reps Meeting
DESCRIPTION:
URL:https://mddedcelks.org/event/elks-camp-barrett-lodge-reps-meeting/2026-06-06/
LOCATION:Elks Camp Barrett\, 1001 Chesterfield Road\, Annapolis\, MD\, 21401\, United States
END:VEVENT
BEGIN:VEVENT
DTSTART;TZID=America/Halifax:20260704T080000
DTEND;TZID=America/Halifax:20260704T170000
DTSTAMP:20260421T222702
CREATED:20250724T235241Z
LAST-MODIFIED:20250724T235241Z
UID:10000014-1783152000-1783184400@mddedcelks.org
SUMMARY:Elks Camp Barrett Lodge Reps Meeting
DESCRIPTION:
URL:https://mddedcelks.org/event/elks-camp-barrett-lodge-reps-meeting/2026-07-04/
LOCATION:Elks Camp Barrett\, 1001 Chesterfield Road\, Annapolis\, MD\, 21401\, United States
END:VEVENT
BEGIN:VEVENT
DTSTART;TZID=America/Halifax:20260801T080000
DTEND;TZID=America/Halifax:20260801T170000
DTSTAMP:20260421T222702
CREATED:20250724T235241Z
LAST-MODIFIED:20250724T235241Z
UID:10000015-1785571200-1785603600@mddedcelks.org
SUMMARY:Elks Camp Barrett Lodge Reps Meeting
DESCRIPTION:
URL:https://mddedcelks.org/event/elks-camp-barrett-lodge-reps-meeting/2026-08-01/
LOCATION:Elks Camp Barrett\, 1001 Chesterfield Road\, Annapolis\, MD\, 21401\, United States
END:VEVENT
BEGIN:VEVENT
DTSTART;TZID=America/Halifax:20260905T080000
DTEND;TZID=America/Halifax:20260905T170000
DTSTAMP:20260421T222702
CREATED:20250724T235241Z
LAST-MODIFIED:20250724T235241Z
UID:10000016-1788595200-1788627600@mddedcelks.org
SUMMARY:Elks Camp Barrett Lodge Reps Meeting
DESCRIPTION:
URL:https://mddedcelks.org/event/elks-camp-barrett-lodge-reps-meeting/2026-09-05/
LOCATION:Elks Camp Barrett\, 1001 Chesterfield Road\, Annapolis\, MD\, 21401\, United States
END:VEVENT
BEGIN:VEVENT
DTSTART;TZID=America/Halifax:20261003T080000
DTEND;TZID=America/Halifax:20261003T170000
DTSTAMP:20260421T222702
CREATED:20250724T235241Z
LAST-MODIFIED:20250724T235241Z
UID:10000017-1791014400-1791046800@mddedcelks.org
SUMMARY:Elks Camp Barrett Lodge Reps Meeting
DESCRIPTION:
URL:https://mddedcelks.org/event/elks-camp-barrett-lodge-reps-meeting/2026-10-03/
LOCATION:Elks Camp Barrett\, 1001 Chesterfield Road\, Annapolis\, MD\, 21401\, United States
END:VEVENT
BEGIN:VEVENT
DTSTART;TZID=America/Halifax:20261107T080000
DTEND;TZID=America/Halifax:20261107T170000
DTSTAMP:20260421T222702
CREATED:20250724T235241Z
LAST-MODIFIED:20250724T235241Z
UID:10000018-1794038400-1794070800@mddedcelks.org
SUMMARY:Elks Camp Barrett Lodge Reps Meeting
DESCRIPTION:
URL:https://mddedcelks.org/event/elks-camp-barrett-lodge-reps-meeting/2026-11-07/
LOCATION:Elks Camp Barrett\, 1001 Chesterfield Road\, Annapolis\, MD\, 21401\, United States
END:VEVENT
BEGIN:VEVENT
DTSTART;TZID=America/Halifax:20261205T080000
DTEND;TZID=America/Halifax:20261205T170000
DTSTAMP:20260421T222702
CREATED:20250724T235241Z
LAST-MODIFIED:20250724T235241Z
UID:10000019-1796457600-1796490000@mddedcelks.org
SUMMARY:Elks Camp Barrett Lodge Reps Meeting
DESCRIPTION:
URL:https://mddedcelks.org/event/elks-camp-barrett-lodge-reps-meeting/2026-12-05/
LOCATION:Elks Camp Barrett\, 1001 Chesterfield Road\, Annapolis\, MD\, 21401\, United States
END:VEVENT
BEGIN:VEVENT
DTSTART;TZID=America/Halifax:20270102T080000
DTEND;TZID=America/Halifax:20270102T170000
DTSTAMP:20260421T222702
CREATED:20250724T235241Z
LAST-MODIFIED:20250724T235241Z
UID:10000020-1798876800-1798909200@mddedcelks.org
SUMMARY:Elks Camp Barrett Lodge Reps Meeting
DESCRIPTION:
URL:https://mddedcelks.org/event/elks-camp-barrett-lodge-reps-meeting/2027-01-02/
LOCATION:Elks Camp Barrett\, 1001 Chesterfield Road\, Annapolis\, MD\, 21401\, United States
END:VEVENT
BEGIN:VEVENT
DTSTART;TZID=America/Halifax:20270206T080000
DTEND;TZID=America/Halifax:20270206T170000
DTSTAMP:20260421T222703
CREATED:20250724T235241Z
LAST-MODIFIED:20250724T235241Z
UID:10000021-1801900800-1801933200@mddedcelks.org
SUMMARY:Elks Camp Barrett Lodge Reps Meeting
DESCRIPTION:
URL:https://mddedcelks.org/event/elks-camp-barrett-lodge-reps-meeting/2027-02-06/
LOCATION:Elks Camp Barrett\, 1001 Chesterfield Road\, Annapolis\, MD\, 21401\, United States
END:VEVENT
BEGIN:VEVENT
DTSTART;TZID=America/Halifax:20270306T080000
DTEND;TZID=America/Halifax:20270306T170000
DTSTAMP:20260421T222703
CREATED:20250724T235241Z
LAST-MODIFIED:20250724T235241Z
UID:10000022-1804320000-1804352400@mddedcelks.org
SUMMARY:Elks Camp Barrett Lodge Reps Meeting
DESCRIPTION:
URL:https://mddedcelks.org/event/elks-camp-barrett-lodge-reps-meeting/2027-03-06/
LOCATION:Elks Camp Barrett\, 1001 Chesterfield Road\, Annapolis\, MD\, 21401\, United States
END:VEVENT
BEGIN:VEVENT
DTSTART;TZID=America/Halifax:20270403T080000
DTEND;TZID=America/Halifax:20270403T170000
DTSTAMP:20260421T222703
CREATED:20250724T235241Z
LAST-MODIFIED:20250724T235241Z
UID:10000023-1806739200-1806771600@mddedcelks.org
SUMMARY:Elks Camp Barrett Lodge Reps Meeting
DESCRIPTION:
URL:https://mddedcelks.org/event/elks-camp-barrett-lodge-reps-meeting/2027-04-03/
LOCATION:Elks Camp Barrett\, 1001 Chesterfield Road\, Annapolis\, MD\, 21401\, United States
END:VEVENT
BEGIN:VEVENT
DTSTART;TZID=America/Halifax:20270501T080000
DTEND;TZID=America/Halifax:20270501T170000
DTSTAMP:20260421T222703
CREATED:20250724T235241Z
LAST-MODIFIED:20250724T235241Z
UID:10000024-1809158400-1809190800@mddedcelks.org
SUMMARY:Elks Camp Barrett Lodge Reps Meeting
DESCRIPTION:
URL:https://mddedcelks.org/event/elks-camp-barrett-lodge-reps-meeting/2027-05-01/
LOCATION:Elks Camp Barrett\, 1001 Chesterfield Road\, Annapolis\, MD\, 21401\, United States
END:VEVENT
BEGIN:VEVENT
DTSTART;TZID=America/Halifax:20270605T080000
DTEND;TZID=America/Halifax:20270605T170000
DTSTAMP:20260421T222703
CREATED:20250724T235241Z
LAST-MODIFIED:20250724T235241Z
UID:10000025-1812182400-1812214800@mddedcelks.org
SUMMARY:Elks Camp Barrett Lodge Reps Meeting
DESCRIPTION:
URL:https://mddedcelks.org/event/elks-camp-barrett-lodge-reps-meeting/2027-06-05/
LOCATION:Elks Camp Barrett\, 1001 Chesterfield Road\, Annapolis\, MD\, 21401\, United States
END:VEVENT
BEGIN:VEVENT
DTSTART;TZID=America/Halifax:20270703T080000
DTEND;TZID=America/Halifax:20270703T170000
DTSTAMP:20260421T222703
CREATED:20250724T235241Z
LAST-MODIFIED:20250724T235241Z
UID:10000026-1814601600-1814634000@mddedcelks.org
SUMMARY:Elks Camp Barrett Lodge Reps Meeting
DESCRIPTION:
URL:https://mddedcelks.org/event/elks-camp-barrett-lodge-reps-meeting/2027-07-03/
LOCATION:Elks Camp Barrett\, 1001 Chesterfield Road\, Annapolis\, MD\, 21401\, United States
END:VEVENT
BEGIN:VEVENT
DTSTART;TZID=America/Halifax:20270807T080000
DTEND;TZID=America/Halifax:20270807T170000
DTSTAMP:20260421T222703
CREATED:20250724T235241Z
LAST-MODIFIED:20250724T235241Z
UID:10000027-1817625600-1817658000@mddedcelks.org
SUMMARY:Elks Camp Barrett Lodge Reps Meeting
DESCRIPTION:
URL:https://mddedcelks.org/event/elks-camp-barrett-lodge-reps-meeting/2027-08-07/
LOCATION:Elks Camp Barrett\, 1001 Chesterfield Road\, Annapolis\, MD\, 21401\, United States
END:VEVENT
BEGIN:VEVENT
DTSTART;TZID=America/Halifax:20270904T080000
DTEND;TZID=America/Halifax:20270904T170000
DTSTAMP:20260421T222703
CREATED:20250724T235241Z
LAST-MODIFIED:20250724T235241Z
UID:10000028-1820044800-1820077200@mddedcelks.org
SUMMARY:Elks Camp Barrett Lodge Reps Meeting
DESCRIPTION:
URL:https://mddedcelks.org/event/elks-camp-barrett-lodge-reps-meeting/2027-09-04/
LOCATION:Elks Camp Barrett\, 1001 Chesterfield Road\, Annapolis\, MD\, 21401\, United States
END:VEVENT
BEGIN:VEVENT
DTSTART;TZID=America/Halifax:20271002T080000
DTEND;TZID=America/Halifax:20271002T170000
DTSTAMP:20260421T222703
CREATED:20250724T235241Z
LAST-MODIFIED:20250724T235241Z
UID:10000029-1822464000-1822496400@mddedcelks.org
SUMMARY:Elks Camp Barrett Lodge Reps Meeting
DESCRIPTION:
URL:https://mddedcelks.org/event/elks-camp-barrett-lodge-reps-meeting/2027-10-02/
LOCATION:Elks Camp Barrett\, 1001 Chesterfield Road\, Annapolis\, MD\, 21401\, United States
END:VEVENT
BEGIN:VEVENT
DTSTART;TZID=America/Halifax:20271106T080000
DTEND;TZID=America/Halifax:20271106T170000
DTSTAMP:20260421T222703
CREATED:20250724T235241Z
LAST-MODIFIED:20250724T235241Z
UID:10000030-1825488000-1825520400@mddedcelks.org
SUMMARY:Elks Camp Barrett Lodge Reps Meeting
DESCRIPTION:
URL:https://mddedcelks.org/event/elks-camp-barrett-lodge-reps-meeting/2027-11-06/
LOCATION:Elks Camp Barrett\, 1001 Chesterfield Road\, Annapolis\, MD\, 21401\, United States
END:VEVENT
BEGIN:VEVENT
DTSTART;TZID=America/Halifax:20271204T080000
DTEND;TZID=America/Halifax:20271204T170000
DTSTAMP:20260421T222703
CREATED:20250724T235241Z
LAST-MODIFIED:20250724T235241Z
UID:10000031-1827907200-1827939600@mddedcelks.org
SUMMARY:Elks Camp Barrett Lodge Reps Meeting
DESCRIPTION:
URL:https://mddedcelks.org/event/elks-camp-barrett-lodge-reps-meeting/2027-12-04/
LOCATION:Elks Camp Barrett\, 1001 Chesterfield Road\, Annapolis\, MD\, 21401\, United States
END:VEVENT
BEGIN:VEVENT
DTSTART;TZID=America/Halifax:20280101T080000
DTEND;TZID=America/Halifax:20280101T170000
DTSTAMP:20260421T222703
CREATED:20250724T235241Z
LAST-MODIFIED:20250724T235241Z
UID:10000032-1830326400-1830358800@mddedcelks.org
SUMMARY:Elks Camp Barrett Lodge Reps Meeting
DESCRIPTION:
URL:https://mddedcelks.org/event/elks-camp-barrett-lodge-reps-meeting/2028-01-01/
LOCATION:Elks Camp Barrett\, 1001 Chesterfield Road\, Annapolis\, MD\, 21401\, United States
END:VEVENT
BEGIN:VEVENT
DTSTART;TZID=America/Halifax:20280205T080000
DTEND;TZID=America/Halifax:20280205T170000
DTSTAMP:20260421T222703
CREATED:20250724T235241Z
LAST-MODIFIED:20250724T235241Z
UID:10000033-1833350400-1833382800@mddedcelks.org
SUMMARY:Elks Camp Barrett Lodge Reps Meeting
DESCRIPTION:
URL:https://mddedcelks.org/event/elks-camp-barrett-lodge-reps-meeting/2028-02-05/
LOCATION:Elks Camp Barrett\, 1001 Chesterfield Road\, Annapolis\, MD\, 21401\, United States
END:VEVENT
BEGIN:VEVENT
DTSTART;TZID=America/Halifax:20280304T080000
DTEND;TZID=America/Halifax:20280304T170000
DTSTAMP:20260421T222703
CREATED:20250724T235241Z
LAST-MODIFIED:20250724T235241Z
UID:10000034-1835769600-1835802000@mddedcelks.org
SUMMARY:Elks Camp Barrett Lodge Reps Meeting
DESCRIPTION:
URL:https://mddedcelks.org/event/elks-camp-barrett-lodge-reps-meeting/2028-03-04/
LOCATION:Elks Camp Barrett\, 1001 Chesterfield Road\, Annapolis\, MD\, 21401\, United States
END:VEVENT
BEGIN:VEVENT
DTSTART;TZID=America/Halifax:20280401T080000
DTEND;TZID=America/Halifax:20280401T170000
DTSTAMP:20260421T222703
CREATED:20250724T235241Z
LAST-MODIFIED:20250724T235241Z
UID:10000035-1838188800-1838221200@mddedcelks.org
SUMMARY:Elks Camp Barrett Lodge Reps Meeting
DESCRIPTION:
URL:https://mddedcelks.org/event/elks-camp-barrett-lodge-reps-meeting/2028-04-01/
LOCATION:Elks Camp Barrett\, 1001 Chesterfield Road\, Annapolis\, MD\, 21401\, United States
END:VEVENT
BEGIN:VEVENT
DTSTART;TZID=America/Halifax:20280506T080000
DTEND;TZID=America/Halifax:20280506T170000
DTSTAMP:20260421T222703
CREATED:20250724T235241Z
LAST-MODIFIED:20250724T235241Z
UID:10000036-1841212800-1841245200@mddedcelks.org
SUMMARY:Elks Camp Barrett Lodge Reps Meeting
DESCRIPTION:
URL:https://mddedcelks.org/event/elks-camp-barrett-lodge-reps-meeting/2028-05-06/
LOCATION:Elks Camp Barrett\, 1001 Chesterfield Road\, Annapolis\, MD\, 21401\, United States
END:VEVENT
BEGIN:VEVENT
DTSTART;TZID=America/Halifax:20280603T080000
DTEND;TZID=America/Halifax:20280603T170000
DTSTAMP:20260421T222703
CREATED:20250724T235241Z
LAST-MODIFIED:20250724T235241Z
UID:10000037-1843632000-1843664400@mddedcelks.org
SUMMARY:Elks Camp Barrett Lodge Reps Meeting
DESCRIPTION:
URL:https://mddedcelks.org/event/elks-camp-barrett-lodge-reps-meeting/2028-06-03/
LOCATION:Elks Camp Barrett\, 1001 Chesterfield Road\, Annapolis\, MD\, 21401\, United States
END:VEVENT
BEGIN:VEVENT
DTSTART;TZID=America/Halifax:20280701T080000
DTEND;TZID=America/Halifax:20280701T170000
DTSTAMP:20260421T222703
CREATED:20250724T235241Z
LAST-MODIFIED:20250724T235241Z
UID:10000038-1846051200-1846083600@mddedcelks.org
SUMMARY:Elks Camp Barrett Lodge Reps Meeting
DESCRIPTION:
URL:https://mddedcelks.org/event/elks-camp-barrett-lodge-reps-meeting/2028-07-01/
LOCATION:Elks Camp Barrett\, 1001 Chesterfield Road\, Annapolis\, MD\, 21401\, United States
END:VEVENT
BEGIN:VEVENT
DTSTART;TZID=America/Halifax:20280805T080000
DTEND;TZID=America/Halifax:20280805T170000
DTSTAMP:20260421T222703
CREATED:20250724T235241Z
LAST-MODIFIED:20250724T235241Z
UID:10000039-1849075200-1849107600@mddedcelks.org
SUMMARY:Elks Camp Barrett Lodge Reps Meeting
DESCRIPTION:
URL:https://mddedcelks.org/event/elks-camp-barrett-lodge-reps-meeting/2028-08-05/
LOCATION:Elks Camp Barrett\, 1001 Chesterfield Road\, Annapolis\, MD\, 21401\, United States
END:VEVENT
BEGIN:VEVENT
DTSTART;TZID=America/Halifax:20280902T080000
DTEND;TZID=America/Halifax:20280902T170000
DTSTAMP:20260421T222703
CREATED:20250724T235241Z
LAST-MODIFIED:20250724T235241Z
UID:10000040-1851494400-1851526800@mddedcelks.org
SUMMARY:Elks Camp Barrett Lodge Reps Meeting
DESCRIPTION:
URL:https://mddedcelks.org/event/elks-camp-barrett-lodge-reps-meeting/2028-09-02/
LOCATION:Elks Camp Barrett\, 1001 Chesterfield Road\, Annapolis\, MD\, 21401\, United States
END:VEVENT
END:VCALENDAR