BEGIN:VCALENDAR
VERSION:2.0
PRODID:-//MD-DE-DC Elks Association - ECPv6.15.17.1//NONSGML v1.0//EN
CALSCALE:GREGORIAN
METHOD:PUBLISH
X-WR-CALNAME:MD-DE-DC Elks Association
X-ORIGINAL-URL:https://mddedcelks.org
X-WR-CALDESC:Events for MD-DE-DC Elks Association
REFRESH-INTERVAL;VALUE=DURATION:PT1H
X-Robots-Tag:noindex
X-PUBLISHED-TTL:PT1H
BEGIN:VTIMEZONE
TZID:America/Halifax
BEGIN:DAYLIGHT
TZOFFSETFROM:-0400
TZOFFSETTO:-0300
TZNAME:ADT
DTSTART:20250309T060000
END:DAYLIGHT
BEGIN:STANDARD
TZOFFSETFROM:-0300
TZOFFSETTO:-0400
TZNAME:AST
DTSTART:20251102T050000
END:STANDARD
BEGIN:DAYLIGHT
TZOFFSETFROM:-0400
TZOFFSETTO:-0300
TZNAME:ADT
DTSTART:20260308T060000
END:DAYLIGHT
BEGIN:STANDARD
TZOFFSETFROM:-0300
TZOFFSETTO:-0400
TZNAME:AST
DTSTART:20261101T050000
END:STANDARD
BEGIN:DAYLIGHT
TZOFFSETFROM:-0400
TZOFFSETTO:-0300
TZNAME:ADT
DTSTART:20270314T060000
END:DAYLIGHT
BEGIN:STANDARD
TZOFFSETFROM:-0300
TZOFFSETTO:-0400
TZNAME:AST
DTSTART:20271107T050000
END:STANDARD
END:VTIMEZONE
BEGIN:VEVENT
DTSTART;VALUE=DATE:20260320
DTEND;VALUE=DATE:20260323
DTSTAMP:20260421T204434
CREATED:20250725T130359Z
LAST-MODIFIED:20260316T031031Z
UID:10000064-1773964800-1774223999@mddedcelks.org
SUMMARY:State Spring Conference w/GER
DESCRIPTION:***March 20-22\, 2026 @ Severna Park Lodge 2482 – located at 160 Truck House Rd.\, Severna Park\, MD 21146. **Join us at our Annual State Spring Conference featuring a visit from our Grand Exalted Ruler\, Bryan Klatt\, and First Lady of Elkdom\, Susan.
URL:https://mddedcelks.org/event/state-spring-conference-w-ger/
LOCATION:MD
ORGANIZER;CN="MD-DE-DC Elks - Con-Con":MAILTO:maryhuj1223@gmail.com
END:VEVENT
END:VCALENDAR