BEGIN:VCALENDAR
VERSION:2.0
PRODID:-//MD-DE-DC Elks Association - ECPv6.15.17.1//NONSGML v1.0//EN
CALSCALE:GREGORIAN
METHOD:PUBLISH
X-ORIGINAL-URL:https://mddedcelks.org
X-WR-CALDESC:Events for MD-DE-DC Elks Association
REFRESH-INTERVAL;VALUE=DURATION:PT1H
X-Robots-Tag:noindex
X-PUBLISHED-TTL:PT1H
BEGIN:VTIMEZONE
TZID:America/Halifax
BEGIN:DAYLIGHT
TZOFFSETFROM:-0400
TZOFFSETTO:-0300
TZNAME:ADT
DTSTART:20240310T060000
END:DAYLIGHT
BEGIN:STANDARD
TZOFFSETFROM:-0300
TZOFFSETTO:-0400
TZNAME:AST
DTSTART:20241103T050000
END:STANDARD
BEGIN:DAYLIGHT
TZOFFSETFROM:-0400
TZOFFSETTO:-0300
TZNAME:ADT
DTSTART:20250309T060000
END:DAYLIGHT
BEGIN:STANDARD
TZOFFSETFROM:-0300
TZOFFSETTO:-0400
TZNAME:AST
DTSTART:20251102T050000
END:STANDARD
BEGIN:DAYLIGHT
TZOFFSETFROM:-0400
TZOFFSETTO:-0300
TZNAME:ADT
DTSTART:20260308T060000
END:DAYLIGHT
BEGIN:STANDARD
TZOFFSETFROM:-0300
TZOFFSETTO:-0400
TZNAME:AST
DTSTART:20261101T050000
END:STANDARD
END:VTIMEZONE
BEGIN:VEVENT
DTSTART;VALUE=DATE:20251003
DTEND;VALUE=DATE:20251006
DTSTAMP:20260422T052924
CREATED:20250725T000038Z
LAST-MODIFIED:20250725T000038Z
UID:10000063-1759449600-1759708799@mddedcelks.org
SUMMARY:State Fall Conference
DESCRIPTION:Please visit https://mddedcelks.org/conference-and-convention/ for additional information.
URL:https://mddedcelks.org/event/state-fall-conference/
LOCATION:Princess Royale Hotel\, 9100 Coastal Hwy\, Ocean City\, MD\, 21842\, United States
END:VEVENT
BEGIN:VEVENT
DTSTART;TZID=America/Halifax:20251004T080000
DTEND;TZID=America/Halifax:20251004T170000
DTSTAMP:20260422T052924
CREATED:20250724T235241Z
LAST-MODIFIED:20250724T235241Z
UID:10000005-1759564800-1759597200@mddedcelks.org
SUMMARY:Elks Camp Barrett Lodge Reps Meeting
DESCRIPTION:
URL:https://mddedcelks.org/event/elks-camp-barrett-lodge-reps-meeting/2025-10-04/
LOCATION:Elks Camp Barrett\, 1001 Chesterfield Road\, Annapolis\, MD\, 21401\, United States
END:VEVENT
END:VCALENDAR